BEGIN:VCALENDAR
VERSION:2.0
PRODID:-//Narrenzunft Rehbock 1908 e.V. - ECPv5.8.0//NONSGML v1.0//EN
CALSCALE:GREGORIAN
METHOD:PUBLISH
X-WR-CALNAME:Narrenzunft Rehbock 1908 e.V.
X-ORIGINAL-URL:https://narrenzunft-rehbock.de
X-WR-CALDESC:Veranstaltungen für Narrenzunft Rehbock 1908 e.V.
BEGIN:VTIMEZONE
TZID:UTC
BEGIN:STANDARD
TZOFFSETFROM:+0000
TZOFFSETTO:+0000
TZNAME:UTC
DTSTART:20230101T000000
END:STANDARD
END:VTIMEZONE
BEGIN:VEVENT
DTSTART;TZID=UTC:20230211T150000
DTEND;TZID=UTC:20230211T180000
DTSTAMP:20260421T085435
CREATED:20221013T123618Z
LAST-MODIFIED:20221013T123618Z
UID:1217-1676127600-1676138400@narrenzunft-rehbock.de
SUMMARY:Altennachmittag
DESCRIPTION:
URL:https://narrenzunft-rehbock.de/event/altennachmittag
LOCATION:Neue Wiesengrundhalle\, Bärenloh 11\, Volkertshausen\, 78269\, Deutschland
ORGANIZER;CN="Narrenzunft%20Rehbock%201908%20e.V.":MAILTO:Zunftmeister@narrenzunft-rehbock.de
END:VEVENT
END:VCALENDAR