BEGIN:VCALENDAR
VERSION:2.0
PRODID:-//Narrenzunft Rehbock 1908 e.V. - ECPv5.8.0//NONSGML v1.0//EN
CALSCALE:GREGORIAN
METHOD:PUBLISH
X-WR-CALNAME:Narrenzunft Rehbock 1908 e.V.
X-ORIGINAL-URL:https://narrenzunft-rehbock.de
X-WR-CALDESC:Veranstaltungen für Narrenzunft Rehbock 1908 e.V.
BEGIN:VTIMEZONE
TZID:Europe/Berlin
BEGIN:DAYLIGHT
TZOFFSETFROM:+0100
TZOFFSETTO:+0200
TZNAME:CEST
DTSTART:20210328T010000
END:DAYLIGHT
BEGIN:STANDARD
TZOFFSETFROM:+0200
TZOFFSETTO:+0100
TZNAME:CET
DTSTART:20211031T010000
END:STANDARD
END:VTIMEZONE
BEGIN:VEVENT
DTSTART;TZID=Europe/Berlin:20211111T191100
DTEND;TZID=Europe/Berlin:20211111T210000
DTSTAMP:20260421T161637
CREATED:20210717T043958Z
LAST-MODIFIED:20211031T110251Z
UID:954-1636657860-1636664400@narrenzunft-rehbock.de
SUMMARY:Fasnetseröffnung 2022
DESCRIPTION:s´ goht dagege! \nDie Narrenzunft Rehbock steht in den Startlöchern zur Fasnet 2022. \nAm 11.11.2021 um 19.11 Uhr wird die Fasnacht eröffnet und unser Motto für 2022 bekannt gegeben!\nAnschließend gemütlicher Hock im „Mohren“ mit Ordensverleihung und Wahl zum Thema für die kommende Fasnacht! Ihr entscheidet! \nBitte beachtet\, dass im Gasthaus Mohren die 2G-Regelung gelten wird. \nDie Narrenzunft Rehbock freut sich auf euch.
URL:https://narrenzunft-rehbock.de/event/fasnetseroeffnung-2022
LOCATION:Rehbocksbrunnen\, Volkertshausen\, Deutschland\, 78269\, Deutschland
ORGANIZER;CN="Narrenzunft%20Rehbock%201908%20e.V.":MAILTO:Zunftmeister@narrenzunft-rehbock.de
END:VEVENT
END:VCALENDAR