BEGIN:VCALENDAR
VERSION:2.0
PRODID:-//Narrenzunft Rehbock 1908 e.V. - ECPv5.8.0//NONSGML v1.0//EN
CALSCALE:GREGORIAN
METHOD:PUBLISH
X-WR-CALNAME:Narrenzunft Rehbock 1908 e.V.
X-ORIGINAL-URL:https://narrenzunft-rehbock.de
X-WR-CALDESC:Veranstaltungen für Narrenzunft Rehbock 1908 e.V.
BEGIN:VTIMEZONE
TZID:UTC
BEGIN:STANDARD
TZOFFSETFROM:+0000
TZOFFSETTO:+0000
TZNAME:UTC
DTSTART:20240101T000000
END:STANDARD
END:VTIMEZONE
BEGIN:VEVENT
DTSTART;TZID=UTC:20240126T170000
DTEND;TZID=UTC:20240126T233000
DTSTAMP:20260421T175503
CREATED:20231107T174459Z
LAST-MODIFIED:20240109T112114Z
UID:1310-1706288400-1706311800@narrenzunft-rehbock.de
SUMMARY:Nachtumzug Gottmadingen
DESCRIPTION:Ausrichter: Narrenzunft Gerstensack Gottmadingen\nAbfahrt: 17:00 Uhr\nRückfahrt: 01:00 Uhr\nTreffpunkt: Bushaltestelle Rathaus
URL:https://narrenzunft-rehbock.de/event/nachtumzug-gottmadingen
END:VEVENT
END:VCALENDAR